BEGIN:VCALENDAR
VERSION:2.0
PRODID:-//jEvents 2.0 for Joomla//EN
CALSCALE:GREGORIAN
METHOD:PUBLISH
BEGIN:VEVENT
UID:1be43773bfe8bcb5212d43b601bcbc0e
CATEGORIES:Übungen
CREATED:20190217T191649
SUMMARY:Atemschutzübung
DESCRIPTION;ENCODING=QUOTED-PRINTABLE:\n\nAtemschutz-Abschnittsübung in St. Kind\n
DTSTAMP:20260425T000505Z
DTSTART:20190510T163000Z
SEQUENCE:0
TRANSP:OPAQUE
END:VEVENT
END:VCALENDAR