BEGIN:VCALENDAR
VERSION:2.0
PRODID:-//jEvents 2.0 for Joomla//EN
CALSCALE:GREGORIAN
METHOD:PUBLISH
BEGIN:VEVENT
UID:0dabfde669861334c7c73eb5c58672c7
CATEGORIES:Übungen
CREATED:20190217T191520
SUMMARY:Atemschutzübung Schützing
DESCRIPTION;ENCODING=QUOTED-PRINTABLE:<p>Atemschutz-Abschnittsübung in Schützing</p>
DTSTAMP:20260425T001146Z
DTSTART:20190315T170000Z
SEQUENCE:0
TRANSP:OPAQUE
END:VEVENT
END:VCALENDAR